BEGIN:VCALENDAR
VERSION:2.0
PRODID:-//Mondai - ECPv6.15.17//NONSGML v1.0//EN
CALSCALE:GREGORIAN
METHOD:PUBLISH
X-WR-CALNAME:Mondai
X-ORIGINAL-URL:https://mondai.tudelftcampus.nl/en/
X-WR-CALDESC:Events for Mondai
REFRESH-INTERVAL;VALUE=DURATION:PT1H
X-Robots-Tag:noindex
X-PUBLISHED-TTL:PT1H
BEGIN:VTIMEZONE
TZID:Europe/Amsterdam
BEGIN:DAYLIGHT
TZOFFSETFROM:+0100
TZOFFSETTO:+0200
TZNAME:CEST
DTSTART:20220327T010000
END:DAYLIGHT
BEGIN:STANDARD
TZOFFSETFROM:+0200
TZOFFSETTO:+0100
TZNAME:CET
DTSTART:20221030T010000
END:STANDARD
BEGIN:DAYLIGHT
TZOFFSETFROM:+0100
TZOFFSETTO:+0200
TZNAME:CEST
DTSTART:20230326T010000
END:DAYLIGHT
BEGIN:STANDARD
TZOFFSETFROM:+0200
TZOFFSETTO:+0100
TZNAME:CET
DTSTART:20231029T010000
END:STANDARD
BEGIN:DAYLIGHT
TZOFFSETFROM:+0100
TZOFFSETTO:+0200
TZNAME:CEST
DTSTART:20240331T010000
END:DAYLIGHT
BEGIN:STANDARD
TZOFFSETFROM:+0200
TZOFFSETTO:+0100
TZNAME:CET
DTSTART:20241027T010000
END:STANDARD
END:VTIMEZONE
BEGIN:VEVENT
DTSTART;TZID=Europe/Amsterdam:20230509T123000
DTEND;TZID=Europe/Amsterdam:20230509T163000
DTSTAMP:20260422T034825
CREATED:20230418T115254Z
LAST-MODIFIED:20230508T140028Z
UID:10000124-1683635400-1683649800@mondai.tudelftcampus.nl
SUMMARY:AI for Crisis Response and Climate Security
DESCRIPTION:AI for Crisis Response and Climate Security: Opportunities\, Challenges and Future Directions (This event will be held in English) \nOver the past decade\, we have been confronted with floods and storms\, pandemics\, and conflict. At the same time\, AI has undoubtedly changed the way humans interact and make decisions. As such\, AI holds substantial promise for understanding and mitigating some of the world’s ‘super-wicked problems’\, e.g.\, the climate crisis\, pandemics\, or food security. For instance\, AI is used to analyse the damages resulting from earthquakes or storms to better allocate resources and plan the recovery; to predict how people move in disaster affected areas\, or how human mobility will contribute to the spread of a virus; and to forecast the needs of a disaster-affected population for food\, water\, shelter\, or financial assistance. However\, decisions in disasters are characterized by high levels of complexity\, uncertainty\, and different moral dilemmas that any AI has to account for. At the same time\, crisis decisions are often urgent. We know that under time pressure and when the stakes are high\, decisions are prone to a range of cognitive biases. \nIn this workshop\, we aim to unpack the main opportunities\, challenges\, and to explore the ways forward to design\, develop and use AI for Crisis Response and Climate security. Our aim is to connect researchers\, policy-makers\, and practitioners active in this domain\, and to develop a joint research agenda. \nProgramme\n12.30-13.30     Networking lunch \n13.30-15.00     Inspiration session \nWe explore different application fields\, and gain insights from the practice of AI research and use. Our speakers are:\nCrisis Response: Dr. Ali Mostafavi\, Zachry Career Development Associate Professor\, Civil & Environmental Engineering\, Texas A&M\nClimate Security: Thomas Baar\, Lead for the Integrated Food Security Phase Classification\, FAO\nForecast-Based Financing & Vulnerability Assessment: Marc van den Homberg\, Lead 510.Global\nGeospatial AI: Thijs Oosterhuis\, Earth Observation Application and Processing Expert at Space4good \n15.00-15.30     Coffee Break \n15.30-16.30     Interactive workshop \nWe co-create our joint agenda to make headway in developing responsible AI for crisis response and climate security in two rounds:\nIdentify research questions and research needs from academia\, policy and practice\nCluster and prioritize research topics \n16.30              Closing & drinks \nSpeakers\nAli Mostafavi – The Next Big Leap: How AI and Data Science Can Transform Disaster Resilience Research and Practice\nis a Zachry Endowed Associate Professor in the Department of Civil and Environmental Engineering at Texas A&M University. He is the Director of UrbanResilience.AI Lab whose research focuses on creating advanced computational models and data science algorithms to advance smart and equitable resilience to crises. His research program integrates advanced machine learning and complex systems-based computational modeling into infrastructure resilience assessments in order to understand and predict complex interactions in the nexus of humans-disasters-built environment. In his talk Ali Mostafavi will expand on using AI for smart crisis response and resilience: how can research on combining community-scale big data with deep and machine learning models improve the ability of a city to withstand disruptions and rapidly recover from crises. \nThomas Baar – A Global Food Crisis: Modelling and Uncertainty\nis a product development manager at the Integrated Food Security Phase Classification (IPC). He is responsible for coordinating the IPC Digital Innovation Agenda\, which focuses on modelling and consensus building in support of the IPC analysis process. In addition\, he coordinates the design and roll-out of the new IPC Analysis Platform. The IPC Analysis Platform will support analysts and facilitators in conducting and communicating the IPC analysis process more efficiently and effectively. Simultaneously\, it will provide an enabling infrastructure for further digital innovation and the integration of validated technologies into the IPC. In his talk Thomas Baar will showcase how AI is improving the analysis process of the Integrated Food Security Phase Classification (IPC)\, and he will discuss the link between automated and human decision-making. \nMarc van den Homberg – Artificial Intelligence and Big data for disaster risk management: opportunities and challenges for the Red Cros Red Crescent Movement\nis the scientific lead of 510\, an initiative of The Netherlands Red Cross. 510’s mission is to shape the future of humanitarian aid by converting data into understanding and supporting humanitarian relief workers\, decision-makers\, and people affected so that they can better prepare for and cope with disasters. His research concerns improving preparedness and response to natural hazards and complex emergencies through data-driven risk assessments\, impact-based forecasting\, information management\, and governance mechanisms. He leads the collaboration with academia and supervises MSc/PhD research about 510’s projects with over 40 African and Asian National Red Cross societies. Marc is an Advisory board member of WMO The High-Impact Weather Project (HIWeather) and IFRCs Early Action Protocol Validation Committee. Before 510\, Marc was the leader and co-founder within TNO\, the Netherlands Research and Technology Organization\, of the ICT for Development (ICT4D) team with which he implemented pro-poor ICT innovations. In his talk\, Marc will show examples of 510’s use-inspired research on AI and big data for disaster risk management while considering data gaps\, accountability\, and explainability.
URL:https://mondai.tudelftcampus.nl/en/event/ai-for-crisis-response-and-climate-security/
LOCATION:Mondai | House of AI – Delft\, Molengraaffsingel 29\, Delft\, 2629 JD
ATTACH;FMTTYPE=image/png:https://mondai.tudelftcampus.nl/wp-content/uploads/sites/7/2023/04/FeaturedImage_AICrisisLogos.png
ORGANIZER;CN="Mondai | House of AI":MAILTO:mondai@tudelft.nl
END:VEVENT
BEGIN:VEVENT
DTSTART;TZID=Europe/Amsterdam:20230508T124500
DTEND;TZID=Europe/Amsterdam:20230508T174500
DTSTAMP:20260422T034825
CREATED:20230308T101116Z
LAST-MODIFIED:20230508T081113Z
UID:10000117-1683549900-1683567900@mondai.tudelftcampus.nl
SUMMARY:The Dutch UNconference AI
DESCRIPTION:(This event will be held in English) \nMondai | House of AI is pleased to host the Dutch UNconference AI in collaboration with InnovationQuarter\, NL AIC and Yes!Delft. \n[placeholder]  [place]  \nThe first Dutch UNconference on AI is a valuable event where startup founders and CTOs in the AI space can build new connections with their peers\, share their challenges and successes\, and accelerate their learning progress. \nThe intimate setting of an UNconference enables peer-to-peer learning on topics that are chosen by the participants based on the challenges they are currently facing. The event begins with individual brainstorming of relevant topics\, followed by a plenary session to set the agenda. Afterwards parallel breakout sessions are formed per topic with experts to give advice and facilitators to guide the conversation. Finally\, all the learnings are shared in a closing plenary session. \nDuring the event\, founders and CTOs can gather new insights from the advice of experts and the experiences of their peers\, build new strong connections and share their own experiences with others in the industry. In addition\, the Dutch UNconference on AI is an excellent opportunity for networking with like-minded individuals. \nProgramme\n12:45 – 13:00  Walk in\n13:00 – 13:30  Lunch\n13:30 – 13:45  Welcome & Introduction\n13:45 – 14:30  Set Agenda\n14:30 – 16:30  Three breakout sessions  (40min per session)\n16:30 – 16:45  Plenary Session: Share what we’ve learned\n16:45 – 17:45  Network drinks \nOur Experts \nDavid Beijer Director Innocubes\, Entrepeneur. Expert on Entrepreneurship\, Nonprofits\, Renewable Energy\, and Decision Making. \nWouter Robers TechExpert at Yes!Delft Inventor\, Innovator\, Entrepreneur. Expert on Entrepreneurship\, Innovations\, Design\, and Scale ups. \nLotte Vandewalle HR Specialist at YES!Delft. Expert on Scaling and Human Resource Management. \nVenkatesh Chandrasekar\, Business Developer AI at TU Delft. Expert on Entrepreneurship\, Startup Development\, and AI. \nDr. Stefan Buijsman\, Assistant Professor TPM TU Delft. Expert on Ethics and AI. \nIrene Otten-Reynhout\, Legal Team Innovation & Impact Centre. Expert on Legal and IP. \nDr. Avishek Anand\, Associate Professor at the Web Information Systems group TU Delft. Expert on Technical AI. \nJelle Post\, Investment Manager at Delft Enterprises. Expert on Investments and Funding with a focus on Software-related Spin-offs.  \nThe detailed programme information can be found here.
URL:https://mondai.tudelftcampus.nl/en/event/the-unconference-ai/
LOCATION:Mondai | House of AI – Delft\, Molengraaffsingel 29\, Delft\, 2629 JD
ATTACH;FMTTYPE=image/png:https://mondai.tudelftcampus.nl/wp-content/uploads/sites/7/2023/03/Poster-event.png
ORGANIZER;CN="Mondai | House of AI":MAILTO:mondai@tudelft.nl
END:VEVENT
END:VCALENDAR