BEGIN:VCALENDAR
VERSION:2.0
PRODID:-//Mondai - ECPv6.15.17//NONSGML v1.0//EN
CALSCALE:GREGORIAN
METHOD:PUBLISH
X-WR-CALNAME:Mondai
X-ORIGINAL-URL:https://mondai.tudelftcampus.nl/en/
X-WR-CALDESC:Events for Mondai
REFRESH-INTERVAL;VALUE=DURATION:PT1H
X-Robots-Tag:noindex
X-PUBLISHED-TTL:PT1H
BEGIN:VTIMEZONE
TZID:Europe/Amsterdam
BEGIN:DAYLIGHT
TZOFFSETFROM:+0100
TZOFFSETTO:+0200
TZNAME:CEST
DTSTART:20240331T010000
END:DAYLIGHT
BEGIN:STANDARD
TZOFFSETFROM:+0200
TZOFFSETTO:+0100
TZNAME:CET
DTSTART:20241027T010000
END:STANDARD
BEGIN:DAYLIGHT
TZOFFSETFROM:+0100
TZOFFSETTO:+0200
TZNAME:CEST
DTSTART:20250330T010000
END:DAYLIGHT
BEGIN:STANDARD
TZOFFSETFROM:+0200
TZOFFSETTO:+0100
TZNAME:CET
DTSTART:20251026T010000
END:STANDARD
BEGIN:DAYLIGHT
TZOFFSETFROM:+0100
TZOFFSETTO:+0200
TZNAME:CEST
DTSTART:20260329T010000
END:DAYLIGHT
BEGIN:STANDARD
TZOFFSETFROM:+0200
TZOFFSETTO:+0100
TZNAME:CET
DTSTART:20261025T010000
END:STANDARD
END:VTIMEZONE
BEGIN:VEVENT
DTSTART;TZID=Europe/Amsterdam:20250520T153000
DTEND;TZID=Europe/Amsterdam:20250520T180000
DTSTAMP:20260421T062812
CREATED:20250424T105837Z
LAST-MODIFIED:20250424T105850Z
UID:10000225-1747755000-1747764000@mondai.tudelftcampus.nl
SUMMARY:Upstream - Women in AI Connect
DESCRIPTION:Registration​WAI Connect: Women in AI Benelux X AI-Hub Zuid-Holland (side event of Upstream festival)​AI-Hub Zuid-Holland and Women in AI Benelux are proud to host Women in AI Connect during #Upstream2025. \nJoin us and thousands of changemakers on May 20 in Delft as we create new connections to shape a future proof economy.\nSign up for our event via the link and don’t forget to claim your Upstream Pass via www.upstreamfestival.com.   \nWomen in AI\nWAI Connect events are networking gatherings organized by Women in AI Benelux with regional AI hubs in The Netherlands and other partners in Benelux. These events feature expert presentations\, and networking sessions. They showcase women AI leaders sharing specialized knowledge across fields like healthcare and NLP\, connecting theory with practical applications.   \n​We aim to highlight women’s contributions while fostering community within the Benelux AI ecosystem. \nProgramme\n​15:30 | Walk in \n​16:00 – 16:30 | When AI Meets UX: What It Means for Researchers\, Designers\, and Product Managers\, Jie Li\, Chief Scientific Officer at Human-AI Symbiosis Alliance (H-AISA) \n​16:30 – 16:40 | Break \n​16:40 – 17:10 | Artificial (im)perfection\, Tessa Bruijne\, Research Scientist Digital Society at TNO Vector \n​17:10 – 18:30 | Networking\, drinks and bites \nConfirmed Speakers\nJie Li\nHuman-Computer Interaction Researcher\, User Experience Researcher\, Columnist at ACM Interactions\, Cake Designer\nTessa Bruijne\nResearch Scientist at TNO\n\nAbout UpstreamUpstream is where innovation meets community. Join us for an electrifying blend of inspiration\, collaboration\, and forward-thinking. Whether you’re a founder\, investor or a corporate change maker\, this community-driven festival is your gateway to cutting-edge ideas\, meaningful connections\, and endless possibilities.
URL:https://mondai.tudelftcampus.nl/en/event/upstream-women-in-ai-connect/
LOCATION:Molengraaffsingel 29\, Delft\, Molengraaffsingel 29\, Delft\, 2629 JD
ATTACH;FMTTYPE=image/png:https://mondai.tudelftcampus.nl/wp-content/uploads/sites/7/2025/04/Copy-of-Upstream_blob_lilac-1.png
END:VEVENT
END:VCALENDAR