BEGIN:VCALENDAR
VERSION:2.0
PRODID:-//Mondai - ECPv6.15.17//NONSGML v1.0//EN
CALSCALE:GREGORIAN
METHOD:PUBLISH
X-ORIGINAL-URL:https://mondai.tudelftcampus.nl/en/
X-WR-CALDESC:Events for Mondai
REFRESH-INTERVAL;VALUE=DURATION:PT1H
X-Robots-Tag:noindex
X-PUBLISHED-TTL:PT1H
BEGIN:VTIMEZONE
TZID:Europe/Amsterdam
BEGIN:DAYLIGHT
TZOFFSETFROM:+0100
TZOFFSETTO:+0200
TZNAME:CEST
DTSTART:20230326T010000
END:DAYLIGHT
BEGIN:STANDARD
TZOFFSETFROM:+0200
TZOFFSETTO:+0100
TZNAME:CET
DTSTART:20231029T010000
END:STANDARD
BEGIN:DAYLIGHT
TZOFFSETFROM:+0100
TZOFFSETTO:+0200
TZNAME:CEST
DTSTART:20240331T010000
END:DAYLIGHT
BEGIN:STANDARD
TZOFFSETFROM:+0200
TZOFFSETTO:+0100
TZNAME:CET
DTSTART:20241027T010000
END:STANDARD
BEGIN:DAYLIGHT
TZOFFSETFROM:+0100
TZOFFSETTO:+0200
TZNAME:CEST
DTSTART:20250330T010000
END:DAYLIGHT
BEGIN:STANDARD
TZOFFSETFROM:+0200
TZOFFSETTO:+0100
TZNAME:CET
DTSTART:20251026T010000
END:STANDARD
END:VTIMEZONE
BEGIN:VEVENT
DTSTART;TZID=Europe/Amsterdam:20240903T120000
DTEND;TZID=Europe/Amsterdam:20240903T133000
DTSTAMP:20260421T220343
CREATED:20240827T074634Z
LAST-MODIFIED:20240829T130407Z
UID:10000195-1725364800-1725370200@mondai.tudelftcampus.nl
SUMMARY:Seminar Series on Meaningful Human-AI Interactions for a Digital Society - #3: Defining “Meaningful” Human-AI Interactions for a Digital Society
DESCRIPTION:A Seminar Series on Meaningful Human-AI Interactions for a Digital SocietyInterested in how to design AI to be meaningful\, transparent\, and ethical? Then join us for the continuation of our Meaningful-Human AI Interaction event series! Building off our previous events\, we will explore how to define meaningful human-AI interactions and deploy AI responsibly with a group of interdisciplinary experts. \nEvent #3: Promoting Meaningful Human-AI Interactions: Societal and Legislative Perspectives \nExplore how to define and promote meaningful human-AI interactions with Marc Steen (TNO). Marc will present an “Extend Error Matrix” that understands AI in its societal context and can help us define meaning and promote interdisciplinary collaboration towards responsible AI. The session will be moderated by Stefan Buijsman (TU Delft) and Birna van Riemsdijk (University of Twente). \nSpeakerMarc Steen\, Senior Research Scientist at TNO: Responsible Innovation \nTalk: We need better images of AI and better conversations about AI\nThis presentation concerns a critique of the ways in which the people involved in the development and application of AI systems (and indeed: journalists and the general public) often visualize and talk about AI systems. Often\, they visualize such systems as shiny humanoid robots or as free-floating electronic brains. Such images convey misleading messages; as if AI works independently of people and can reason in ways superior to people. Instead\, we propose to visualize AI systems as parts of larger\, sociotechnical systems. Here\, we can learn\, for example\, from cybernetics. Similarly\, we propose that the people involved in the design and deployment of an algorithm would need to extend their conversations beyond the four boxes of the Error Matrix\, for example\, to critically discuss false positives and false negatives. We present two thought experiments\, with one practical example in each. We propose to understand\, visualize\, and talk about AI systems in relation to a larger\, complex reality. We also propose to enable people from diverse disciplines to collaborate around boundary objects\, for example: a drawing of an AI system in its sociotechnical context; or an ‘extended’ Error Matrix. Such interventions can promote meaningful human control\, transparency\, and fairness in the design and deployment of AI systems.
URL:https://mondai.tudelftcampus.nl/en/event/seminar-series-meaningful-human-ai-interactions-for-a-digital-society-event3/
LOCATION:Online
ORGANIZER;CN="Mondai | House of AI":MAILTO:mondai@tudelft.nl
END:VEVENT
BEGIN:VEVENT
DTSTART;TZID=Europe/Amsterdam:20240919T103000
DTEND;TZID=Europe/Amsterdam:20240919T160000
DTSTAMP:20260421T220343
CREATED:20240815T081821Z
LAST-MODIFIED:20240909T122539Z
UID:10000191-1726741800-1726761600@mondai.tudelftcampus.nl
SUMMARY:Legal Design Futures: Co-creating the New Center for Law\, Design & AI
DESCRIPTION:Mondai | House of AI is pleased to host the kick-off of the new Convergence Center for Law\, Design & AI!The Convergence Center for Law\, Design & Artificial Intelligence is an initiative by Erasmus School of Law and TU Delft. Our mission is to explore areas where design methods and technology can be used to develop innovations in legal systems and processes. \nWe aim to do this by bringing subject matter experts from across disciplines to create ideas\, strategies and  solutions through collaborative\, human-centered and participatory way. \nBy examining how AI can be harnessed to democratise legal expertise\, practices\, and discourse\, our goal is to provide valuable insights into effective AI applications within legal design. Our center seeks to serve as a hub for thought leadership\, research\, and co-creation\, where the future of law\, design\, and AI is shaped with a shared commitment to positive societal impact. \nSpeakers: Sascha van Schendel\, Matthijs van Dijk and Arnoud Engelfriet \n \nProgramme: ‘Law\, Design & AI’ This center represents a collaborative effort between TU Delft and Erasmus University. We promise a day filled with insights & discussions on the intersection of law\, design and artificial intelligence. \n10:00 Walk in \n10:30 Opening and Introduction \n11:00 Perspectives of the Center \n12:30 Lunch \n13:30 Defining the Priorities of the Center \nPractical sessions on:\nBuilding Networks\nDeveloping Research Methods\nLearning from Cases/Practice \n15:30 Discussion and Closing \n16:00 Drinks
URL:https://mondai.tudelftcampus.nl/en/event/legal-design-futures-co-creating-for-law-design-ai/
LOCATION:Mondai | House of AI – Delft\, Molengraaffsingel 29\, Delft\, 2629 JD
ORGANIZER;CN="Christine Bel":MAILTO:c.i.bel@tudelft.nl
END:VEVENT
END:VCALENDAR